BEGIN:VCALENDAR
VERSION:2.0
PRODID:-//Österreichische AIDS-Gesellschaft - ECPv6.15.20//NONSGML v1.0//EN
CALSCALE:GREGORIAN
METHOD:PUBLISH
X-WR-CALNAME:Österreichische AIDS-Gesellschaft
X-ORIGINAL-URL:https://www.aidsgesellschaft.at
X-WR-CALDESC:Veranstaltungen für Österreichische AIDS-Gesellschaft
REFRESH-INTERVAL;VALUE=DURATION:PT1H
X-Robots-Tag:noindex
X-PUBLISHED-TTL:PT1H
BEGIN:VTIMEZONE
TZID:Europe/Berlin
BEGIN:DAYLIGHT
TZOFFSETFROM:+0100
TZOFFSETTO:+0200
TZNAME:CEST
DTSTART:20250330T010000
END:DAYLIGHT
BEGIN:STANDARD
TZOFFSETFROM:+0200
TZOFFSETTO:+0100
TZNAME:CET
DTSTART:20251026T010000
END:STANDARD
BEGIN:DAYLIGHT
TZOFFSETFROM:+0100
TZOFFSETTO:+0200
TZNAME:CEST
DTSTART:20260329T010000
END:DAYLIGHT
BEGIN:STANDARD
TZOFFSETFROM:+0200
TZOFFSETTO:+0100
TZNAME:CET
DTSTART:20261025T010000
END:STANDARD
BEGIN:DAYLIGHT
TZOFFSETFROM:+0100
TZOFFSETTO:+0200
TZNAME:CEST
DTSTART:20270328T010000
END:DAYLIGHT
BEGIN:STANDARD
TZOFFSETFROM:+0200
TZOFFSETTO:+0100
TZNAME:CET
DTSTART:20271031T010000
END:STANDARD
END:VTIMEZONE
BEGIN:VEVENT
DTSTART;VALUE=DATE:20261014
DTEND;VALUE=DATE:20261018
DTSTAMP:20260424T225712
CREATED:20260318T114016Z
LAST-MODIFIED:20260318T114016Z
UID:3274-1791936000-1792281599@www.aidsgesellschaft.at
SUMMARY:27th IUSTI World Congress
DESCRIPTION:
URL:https://www.aidsgesellschaft.at/kongress/27th-iusti-world-congress/
LOCATION:Prag
CATEGORIES:Kongress
ATTACH;FMTTYPE=image/png:https://www.aidsgesellschaft.at/wp-content/uploads/2026/03/IUSTI_Logo.png
END:VEVENT
BEGIN:VEVENT
DTSTART;VALUE=DATE:20261021
DTEND;VALUE=DATE:20261025
DTSTAMP:20260424T225712
CREATED:20260126T070616Z
LAST-MODIFIED:20260126T070717Z
UID:3184-1792540800-1792886399@www.aidsgesellschaft.at
SUMMARY:IDWeek 2026
DESCRIPTION:
URL:https://www.aidsgesellschaft.at/kongress/idweek-2025-2/
LOCATION:Washington\, D.C.
CATEGORIES:Kongress
ATTACH;FMTTYPE=image/jpeg:https://www.aidsgesellschaft.at/wp-content/uploads/2023/03/IDweek.jpg
END:VEVENT
END:VCALENDAR